BEGIN:VCALENDAR
VERSION:2.0
PRODID:-//R.J.V. De Duinruiters - ECPv6.13.2.1//NONSGML v1.0//EN
CALSCALE:GREGORIAN
METHOD:PUBLISH
X-ORIGINAL-URL:http://www.rjvduinruiters.nl
X-WR-CALDESC:Evenementen voor R.J.V. De Duinruiters
REFRESH-INTERVAL;VALUE=DURATION:PT1H
X-Robots-Tag:noindex
X-PUBLISHED-TTL:PT1H
BEGIN:VTIMEZONE
TZID:Europe/Amsterdam
BEGIN:DAYLIGHT
TZOFFSETFROM:+0100
TZOFFSETTO:+0200
TZNAME:CEST
DTSTART:20250330T010000
END:DAYLIGHT
BEGIN:STANDARD
TZOFFSETFROM:+0200
TZOFFSETTO:+0100
TZNAME:CET
DTSTART:20251026T010000
END:STANDARD
BEGIN:DAYLIGHT
TZOFFSETFROM:+0100
TZOFFSETTO:+0200
TZNAME:CEST
DTSTART:20260329T010000
END:DAYLIGHT
BEGIN:STANDARD
TZOFFSETFROM:+0200
TZOFFSETTO:+0100
TZNAME:CET
DTSTART:20261025T010000
END:STANDARD
END:VTIMEZONE
BEGIN:VEVENT
DTSTART;TZID=Europe/Amsterdam:20250309T100000
DTEND;TZID=Europe/Amsterdam:20250309T170000
DTSTAMP:20260424T113550
CREATED:20241015T083818Z
LAST-MODIFIED:20250308T220851Z
UID:369-1741514400-1741539600@www.rjvduinruiters.nl
SUMMARY:KNHS Indoor Dressuur B t/m Z2
DESCRIPTION:Maandelijkse KNHS wedstrijd georganiseerd door R.J.V. De Duinruiters. Schrijf je in via Mijnknhs.nl of via de onderstaande link.
URL:http://www.rjvduinruiters.nl/agenda/knhs-indoor-dressuur-b-t-m-z2-11/
LOCATION:Manege Bakker\, Schulpweg 62\, Noordwijkerhout\, 2211 XM\, Nederland
CATEGORIES:KNHS Wedstrijd
ATTACH;FMTTYPE=image/jpeg:http://www.rjvduinruiters.nl/wp-content/uploads/2023/10/crystal-van-vliet-kiekje-by-digishots-nisp21l79687-lr.jpg
ORGANIZER;CN="R.J.V. De Duinruiters":MAILTO:duinruiters@live.nl
END:VEVENT
BEGIN:VEVENT
DTSTART;TZID=Europe/Amsterdam:20250323T100000
DTEND;TZID=Europe/Amsterdam:20250323T170000
DTSTAMP:20260424T113550
CREATED:20250314T203930Z
LAST-MODIFIED:20250314T203930Z
UID:457-1742724000-1742749200@www.rjvduinruiters.nl
SUMMARY:Proefgerichte Clinic Anouk Hansen
DESCRIPTION:*Anouk Hansen* is Grand Prix amazone en Grand Prix-jurylid. Ze is in staat om op elk niveau waardevolle wedstrijdtips te geven en weet als geen ander hoe je deze rijtechnisch kunt bereiken. Bovendien weet ze het op ieder niveau op een leuke manier over te brengen! \nJe rijdt een *proef naar keuze* en krijgt daarna *20 minuten gerichte instructie*. Wil je juist een niveau hoger proberen? Dat kan natuurlijk ook. De proef wordt gefilmd en je ontvangt deze na de clinic\, zodat je de proef kunt terugkijken en de tips van Anouk kunt herbeluisteren. \nJe wordt gejureerd zoals bij een echte wedstrijd\, volgens de officiële regels. Dit betekent ook dat je in wedstrijdtenue komt\, inclusief harnachement. Je kan met een zweep rijden in een categorie waar dit normaal gesproken niet is toegestaan. Je hoeft niet officieel te starten\, dus iedereen kan meedoen. Het telt niet mee als een officiële KNHS-wedstrijd. \nKosten: Duinruiterlid €55 per half uur\, voor niet-leden €60. Aangezien het buitenseizoen weer begonnen is wordt de clinic in de buitenbak gereden.
URL:http://www.rjvduinruiters.nl/agenda/proefgerichte-clinic-anouk-hansen/
LOCATION:Manege Bakker\, Schulpweg 62\, Noordwijkerhout\, 2211 XM\, Nederland
CATEGORIES:Clinic
ATTACH;FMTTYPE=image/jpeg:http://www.rjvduinruiters.nl/wp-content/uploads/2025/03/unnamed.jpg
ORGANIZER;CN="R.J.V. De Duinruiters":MAILTO:duinruiters@live.nl
END:VEVENT
BEGIN:VEVENT
DTSTART;TZID=Europe/Amsterdam:20250327T193000
DTEND;TZID=Europe/Amsterdam:20250327T220000
DTSTAMP:20260424T113550
CREATED:20250314T203536Z
LAST-MODIFIED:20250314T203536Z
UID:454-1743103800-1743112800@www.rjvduinruiters.nl
SUMMARY:Algemene Ledenvergadering
DESCRIPTION:Het is weer tijd voor onze jaarlijkse algemene ledenvergadering. Na het officiële gedeelte zullen we de avond weer afsluiten met een spectaculaire bingo wederom onder leiding van onze eigen bingo-duo Piet en Hein\, waarbij natuurlijk weer hele leuke prijzen te winnen zijn!
URL:http://www.rjvduinruiters.nl/agenda/algemene-ledenvergadering/
LOCATION:Manege Bakker\, Schulpweg 62\, Noordwijkerhout\, 2211 XM\, Nederland
ATTACH;FMTTYPE=image/jpeg:http://www.rjvduinruiters.nl/wp-content/uploads/2025/03/338619550_226334540065389_2207301996033331406_n.jpg
ORGANIZER;CN="R.J.V. De Duinruiters":MAILTO:duinruiters@live.nl
END:VEVENT
BEGIN:VEVENT
DTSTART;TZID=Europe/Amsterdam:20250406T150000
DTEND;TZID=Europe/Amsterdam:20250406T170000
DTSTAMP:20260424T113550
CREATED:20250308T223627Z
LAST-MODIFIED:20250316T200125Z
UID:417-1743951600-1743958800@www.rjvduinruiters.nl
SUMMARY:Training van sportpaarden vanuit een veterinair oogpunt bekeken
DESCRIPTION:Demo workshop met Leendert-Jan Hofland en Geert Hofland\nIn deze praktische en leerzame demo workshop delen Leendert-Jan Hofland en Geert Hofland hun expertise over hoe je op een verantwoorde en duurzame manier je paard kunt trainen. Ze geven inzicht in de belangrijkste principes van een effectieve training\, met aandacht voor het welzijn van het paard en het minimaliseren van belasting. \nTijdens de workshop worden de do’s en don’ts van paardentraining behandeld\, zodat je leert hoe je je paard optimaal kunt begeleiden zonder onnodige belasting of het risico op blessures.\nDe experts benadrukken de noodzaak van een goede opbouw in de training\, waarbij progressie geleidelijk wordt opgebouwd om overbelasting te voorkomen. Ze delen ook praktische tips over het herkennen van signalen\, zodat je tijdig kunt ingrijpen en de training kunt aanpassen. Het doel is niet alleen om de prestaties te verbeteren\, maar vooral om het welzijn van het paard op lange termijn te waarborgen. \nOf je nu een beginnende ruiter bent of een meer ervaren paardentrainer\, deze workshop biedt waardevolle kennis en praktische tools die je direct kunt toepassen in je eigen trainingsroutine. Het is een kans om te leren van twee ervaren professionals die passie hebben voor het duurzame en verantwoorde trainen van paarden. \nKom naar de workshop en ontdek hoe je met respect voor het paard een sterke\, gezonde en langdurige samenwerking kunt opbouwen. \nTijdens deze workshop zal Geert rijden op de 10-jarige\, Lichte Tour geklasseerde ruin Kentucky (v. Hofrat). \nWe hopen je daar te zien voor een leerzame dag! \nOver Leendert-Jan Hofland\nLeendert-Jan Hofland is sinds maart 2018 teamveterinair voor de KNHS eventingpaarden. Als lid van de maatschap van Dierenartsenpraktijk Bodegraven begeleidt hij diverse eventingpaarden op het hoogste niveau. Leendert-Jan is regelmatig aanwezig op internationale topwedstrijden en kampioenschappen\, waardoor hij de discipline goed kent. \nOver Geert Hofland\nGeert Hofland is een ambitieuze en talentvolle ruiter die zijn sporen in de paardensport verdient met zijn indrukwekkende prestaties in de dressuur. Nadat hij zijn naam maakte in de jeugd met zijn voormalige Grand Prix-paard Oswin\, is hij nu hard op weg naar verdere successen met de tienjarige merrie Ivetha (v. Apache). \nPraktische info\nDe demo workshop begint om 15.00 en eindigt rond 17.00. Aanvang is vanaf 14.30. Parkeren is mogelijk op de voorkant van het terrein. In de kantine is drinken en eten verkrijgbaar.  \n\nKaartjes\nDuinruiter leden betalen slechts €7\,50. Niet-leden zijn van harte welkom voor €15\,00. Bij elk kaartje ontvang je 1 consumptiebon voor een drankje. En wil je extra genieten? Elk drankje kost €3\,00. \n\n\n  \n\n\n\n\n\n\n\n\n\n Naam\n \n \n E-mailadres\n \n \n Ticket aantal\n \n \n Ik ben\nDuinruiter lidGeen Duinruiter lid\n \nDisclaimer: De informatie die u verstrekt in dit formulier zal uitsluitend gebruikt worden voor de aanmelding voor de demo workshop. Het kortingstarief is alleen beschikbaar voor Duinruiter-leden.\nLet op: om gebruik te maken van dit kortingstarief dient elke tickethouders lid te zijn van de vereniging.
URL:http://www.rjvduinruiters.nl/agenda/training-van-sportpaarden-vanuit-een-veterinair-oogpunt-bekeken/
LOCATION:Manege Bakker\, Schulpweg 62\, Noordwijkerhout\, 2211 XM\, Nederland
CATEGORIES:Workshop
ATTACH;FMTTYPE=image/png:http://www.rjvduinruiters.nl/wp-content/uploads/2025/03/converted_image.png
ORGANIZER;CN="R.J.V. De Duinruiters":MAILTO:duinruiters@live.nl
END:VEVENT
BEGIN:VEVENT
DTSTART;TZID=Europe/Amsterdam:20250413T100000
DTEND;TZID=Europe/Amsterdam:20250413T170000
DTSTAMP:20260424T113550
CREATED:20250313T210356Z
LAST-MODIFIED:20250313T210356Z
UID:436-1744538400-1744563600@www.rjvduinruiters.nl
SUMMARY:KNHS Outdoor Dressuur B t/m ZZL
DESCRIPTION:Maandelijkse KNHS wedstrijd georganiseerd door R.J.V. De Duinruiters. Schrijf je in via Mijnknhs.nl of via de onderstaande link.
URL:http://www.rjvduinruiters.nl/agenda/knhs-outdoor-dressuur-b-t-m-zzl-9/
LOCATION:Manege Bakker\, Schulpweg 62\, Noordwijkerhout\, 2211 XM\, Nederland
CATEGORIES:KNHS Wedstrijd
ATTACH;FMTTYPE=image/jpeg:http://www.rjvduinruiters.nl/wp-content/uploads/2023/10/crystal-van-vliet-kiekje-by-digishots-nisp21l79687-lr.jpg
ORGANIZER;CN="R.J.V. De Duinruiters":MAILTO:duinruiters@live.nl
END:VEVENT
BEGIN:VEVENT
DTSTART;TZID=Europe/Amsterdam:20250510T100000
DTEND;TZID=Europe/Amsterdam:20250511T170000
DTSTAMP:20260424T113550
CREATED:20250313T210922Z
LAST-MODIFIED:20250313T210922Z
UID:438-1746871200-1746982800@www.rjvduinruiters.nl
SUMMARY:KNHS Outdoor Dressuur 2-Daagse B t/m ZZL
DESCRIPTION:Outdoor KNHS dressuur weekend georganiseerd door R.J.V. De Duinruiters. Schrijf je in via Mijnknhs.nl of via de onderstaande link. \nInclusief een leuke prijzenpot voor de overall winnaars!
URL:http://www.rjvduinruiters.nl/agenda/knhs-outdoor-dressuur-2-daagse-b-t-m-zzl-6/
LOCATION:Manege Bakker\, Schulpweg 62\, Noordwijkerhout\, 2211 XM\, Nederland
CATEGORIES:KNHS Wedstrijd
ATTACH;FMTTYPE=image/jpeg:http://www.rjvduinruiters.nl/wp-content/uploads/2023/04/E80411DA-2B01-4E10-907F-C4ADA185D00A.jpeg
ORGANIZER;CN="R.J.V. De Duinruiters":MAILTO:duinruiters@live.nl
END:VEVENT
BEGIN:VEVENT
DTSTART;TZID=Europe/Amsterdam:20250615T100000
DTEND;TZID=Europe/Amsterdam:20250615T170000
DTSTAMP:20260424T113550
CREATED:20250313T211049Z
LAST-MODIFIED:20250313T211049Z
UID:441-1749981600-1750006800@www.rjvduinruiters.nl
SUMMARY:KNHS Outdoor Dressuur B t/m ZZL
DESCRIPTION:Maandelijkse KNHS wedstrijd georganiseerd door R.J.V. De Duinruiters. Schrijf je in via Mijnknhs.nl of via de onderstaande link.
URL:http://www.rjvduinruiters.nl/agenda/knhs-outdoor-dressuur-b-t-m-zzl-10/
LOCATION:Manege Bakker\, Schulpweg 62\, Noordwijkerhout\, 2211 XM\, Nederland
CATEGORIES:KNHS Wedstrijd
ATTACH;FMTTYPE=image/jpeg:http://www.rjvduinruiters.nl/wp-content/uploads/2023/10/crystal-van-vliet-kiekje-by-digishots-nisp21l79687-lr.jpg
ORGANIZER;CN="R.J.V. De Duinruiters":MAILTO:duinruiters@live.nl
END:VEVENT
BEGIN:VEVENT
DTSTART;TZID=Europe/Amsterdam:20250713T100000
DTEND;TZID=Europe/Amsterdam:20250713T170000
DTSTAMP:20260424T113550
CREATED:20250313T211142Z
LAST-MODIFIED:20250313T211142Z
UID:443-1752400800-1752426000@www.rjvduinruiters.nl
SUMMARY:KNHS Outdoor Dressuur B t/m ZZL
DESCRIPTION:Maandelijkse KNHS wedstrijd georganiseerd door R.J.V. De Duinruiters. Schrijf je in via Mijnknhs.nl of via de onderstaande link.
URL:http://www.rjvduinruiters.nl/agenda/knhs-outdoor-dressuur-b-t-m-zzl-11/
LOCATION:Manege Bakker\, Schulpweg 62\, Noordwijkerhout\, 2211 XM\, Nederland
CATEGORIES:KNHS Wedstrijd
ATTACH;FMTTYPE=image/jpeg:http://www.rjvduinruiters.nl/wp-content/uploads/2023/10/crystal-van-vliet-kiekje-by-digishots-nisp21l79687-lr.jpg
ORGANIZER;CN="R.J.V. De Duinruiters":MAILTO:duinruiters@live.nl
END:VEVENT
BEGIN:VEVENT
DTSTART;TZID=Europe/Amsterdam:20250810T100000
DTEND;TZID=Europe/Amsterdam:20250810T170000
DTSTAMP:20260424T113550
CREATED:20250313T211250Z
LAST-MODIFIED:20250313T211250Z
UID:446-1754820000-1754845200@www.rjvduinruiters.nl
SUMMARY:KNHS Outdoor Dressuur B t/m ZZL
DESCRIPTION:Maandelijkse KNHS wedstrijd georganiseerd door R.J.V. De Duinruiters. Schrijf je in via Mijnknhs.nl of via de onderstaande link.
URL:http://www.rjvduinruiters.nl/agenda/knhs-outdoor-dressuur-b-t-m-zzl-12/
LOCATION:Manege Bakker\, Schulpweg 62\, Noordwijkerhout\, 2211 XM\, Nederland
CATEGORIES:KNHS Wedstrijd
ATTACH;FMTTYPE=image/jpeg:http://www.rjvduinruiters.nl/wp-content/uploads/2023/10/crystal-van-vliet-kiekje-by-digishots-nisp21l79687-lr.jpg
ORGANIZER;CN="R.J.V. De Duinruiters":MAILTO:duinruiters@live.nl
END:VEVENT
BEGIN:VEVENT
DTSTART;TZID=Europe/Amsterdam:20250913T100000
DTEND;TZID=Europe/Amsterdam:20250914T170000
DTSTAMP:20260424T113550
CREATED:20250313T211426Z
LAST-MODIFIED:20250313T211638Z
UID:448-1757757600-1757869200@www.rjvduinruiters.nl
SUMMARY:KNHS Outdoor Dressuur 2-Daagse B t/m ZZL
DESCRIPTION:Outdoor KNHS dressuur weekend georganiseerd door R.J.V. De Duinruiters. Schrijf je in via Mijnknhs.nl of via de onderstaande link. \nInclusief een leuke prijzenpot voor de overall winnaars!
URL:http://www.rjvduinruiters.nl/agenda/knhs-outdoor-dressuur-2-daagse-b-t-m-zzl-7/
LOCATION:Manege Bakker\, Schulpweg 62\, Noordwijkerhout\, 2211 XM\, Nederland
CATEGORIES:KNHS Wedstrijd
ATTACH;FMTTYPE=image/jpeg:http://www.rjvduinruiters.nl/wp-content/uploads/2023/04/E80411DA-2B01-4E10-907F-C4ADA185D00A.jpeg
ORGANIZER;CN="R.J.V. De Duinruiters":MAILTO:duinruiters@live.nl
END:VEVENT
BEGIN:VEVENT
DTSTART;TZID=Europe/Amsterdam:20251012T100000
DTEND;TZID=Europe/Amsterdam:20251012T170000
DTSTAMP:20260424T113550
CREATED:20250813T141729Z
LAST-MODIFIED:20250813T142411Z
UID:469-1760263200-1760288400@www.rjvduinruiters.nl
SUMMARY:KNHS Indoor Dressuur B t/m Z2
DESCRIPTION:Maandelijkse KNHS wedstrijd georganiseerd door R.J.V. De Duinruiters. Schrijf je in via Mijnknhs.nl of via de onderstaande link.
URL:http://www.rjvduinruiters.nl/agenda/knhs-indoor-dressuur-b-t-m-z2-12/
LOCATION:Manege Bakker\, Schulpweg 62\, Noordwijkerhout\, 2211 XM\, Nederland
CATEGORIES:KNHS Wedstrijd
ATTACH;FMTTYPE=image/jpeg:http://www.rjvduinruiters.nl/wp-content/uploads/2023/10/crystal-van-vliet-kiekje-by-digishots-nisp21l79687-lr.jpg
ORGANIZER;CN="R.J.V. De Duinruiters":MAILTO:duinruiters@live.nl
END:VEVENT
BEGIN:VEVENT
DTSTART;TZID=Europe/Amsterdam:20251109T100000
DTEND;TZID=Europe/Amsterdam:20251109T170000
DTSTAMP:20260424T113550
CREATED:20250813T142100Z
LAST-MODIFIED:20250813T142430Z
UID:471-1762682400-1762707600@www.rjvduinruiters.nl
SUMMARY:KNHS Indoor Dressuur B t/m Z2
DESCRIPTION:Maandelijkse KNHS wedstrijd georganiseerd door R.J.V. De Duinruiters. Schrijf je in via Mijnknhs.nl of via de onderstaande link.
URL:http://www.rjvduinruiters.nl/agenda/knhs-indoor-dressuur-b-t-m-z2-13/
LOCATION:Manege Bakker\, Schulpweg 62\, Noordwijkerhout\, 2211 XM\, Nederland
CATEGORIES:KNHS Wedstrijd
ATTACH;FMTTYPE=image/jpeg:http://www.rjvduinruiters.nl/wp-content/uploads/2023/10/crystal-van-vliet-kiekje-by-digishots-nisp21l79687-lr.jpg
ORGANIZER;CN="R.J.V. De Duinruiters":MAILTO:duinruiters@live.nl
END:VEVENT
BEGIN:VEVENT
DTSTART;TZID=Europe/Amsterdam:20251214T100000
DTEND;TZID=Europe/Amsterdam:20251214T170000
DTSTAMP:20260424T113550
CREATED:20250813T142200Z
LAST-MODIFIED:20250813T142447Z
UID:473-1765706400-1765731600@www.rjvduinruiters.nl
SUMMARY:KNHS Indoor Dressuur B t/m Z2
DESCRIPTION:Maandelijkse KNHS wedstrijd georganiseerd door R.J.V. De Duinruiters. Schrijf je in via Mijnknhs.nl of via de onderstaande link.
URL:http://www.rjvduinruiters.nl/agenda/knhs-indoor-dressuur-b-t-m-z2-14/
LOCATION:Manege Bakker\, Schulpweg 62\, Noordwijkerhout\, 2211 XM\, Nederland
CATEGORIES:KNHS Wedstrijd
ATTACH;FMTTYPE=image/jpeg:http://www.rjvduinruiters.nl/wp-content/uploads/2023/10/crystal-van-vliet-kiekje-by-digishots-nisp21l79687-lr.jpg
ORGANIZER;CN="R.J.V. De Duinruiters":MAILTO:duinruiters@live.nl
END:VEVENT
BEGIN:VEVENT
DTSTART;TZID=Europe/Amsterdam:20260111T100000
DTEND;TZID=Europe/Amsterdam:20260111T170000
DTSTAMP:20260424T113550
CREATED:20250813T142320Z
LAST-MODIFIED:20250813T142544Z
UID:475-1768125600-1768150800@www.rjvduinruiters.nl
SUMMARY:KNHS Indoor Dressuur B t/m Z2
DESCRIPTION:Maandelijkse KNHS wedstrijd georganiseerd door R.J.V. De Duinruiters. Schrijf je in via Mijnknhs.nl of via de onderstaande link.
URL:http://www.rjvduinruiters.nl/agenda/knhs-indoor-dressuur-b-t-m-z2-15/
LOCATION:Manege Bakker\, Schulpweg 62\, Noordwijkerhout\, 2211 XM\, Nederland
CATEGORIES:KNHS Wedstrijd
ATTACH;FMTTYPE=image/jpeg:http://www.rjvduinruiters.nl/wp-content/uploads/2023/10/crystal-van-vliet-kiekje-by-digishots-nisp21l79687-lr.jpg
ORGANIZER;CN="R.J.V. De Duinruiters":MAILTO:duinruiters@live.nl
END:VEVENT
BEGIN:VEVENT
DTSTART;TZID=Europe/Amsterdam:20260208T100000
DTEND;TZID=Europe/Amsterdam:20260208T170000
DTSTAMP:20260424T113550
CREATED:20250813T142645Z
LAST-MODIFIED:20250813T142645Z
UID:478-1770544800-1770570000@www.rjvduinruiters.nl
SUMMARY:KNHS Indoor Dressuur B t/m Z2
DESCRIPTION:Maandelijkse KNHS wedstrijd georganiseerd door R.J.V. De Duinruiters. Schrijf je in via Mijnknhs.nl of via de onderstaande link.
URL:http://www.rjvduinruiters.nl/agenda/knhs-indoor-dressuur-b-t-m-z2-16/
LOCATION:Manege Bakker\, Schulpweg 62\, Noordwijkerhout\, 2211 XM\, Nederland
CATEGORIES:KNHS Wedstrijd
ATTACH;FMTTYPE=image/jpeg:http://www.rjvduinruiters.nl/wp-content/uploads/2023/10/crystal-van-vliet-kiekje-by-digishots-nisp21l79687-lr.jpg
ORGANIZER;CN="R.J.V. De Duinruiters":MAILTO:duinruiters@live.nl
END:VEVENT
BEGIN:VEVENT
DTSTART;TZID=Europe/Amsterdam:20260308T100000
DTEND;TZID=Europe/Amsterdam:20260308T170000
DTSTAMP:20260424T113550
CREATED:20250813T142747Z
LAST-MODIFIED:20250813T142747Z
UID:480-1772964000-1772989200@www.rjvduinruiters.nl
SUMMARY:KNHS Indoor Dressuur B t/m Z2
DESCRIPTION:Maandelijkse KNHS wedstrijd georganiseerd door R.J.V. De Duinruiters. Schrijf je in via Mijnknhs.nl of via de onderstaande link.
URL:http://www.rjvduinruiters.nl/agenda/knhs-indoor-dressuur-b-t-m-z2-17/
LOCATION:Manege Bakker\, Schulpweg 62\, Noordwijkerhout\, 2211 XM\, Nederland
CATEGORIES:KNHS Wedstrijd
ATTACH;FMTTYPE=image/jpeg:http://www.rjvduinruiters.nl/wp-content/uploads/2023/10/crystal-van-vliet-kiekje-by-digishots-nisp21l79687-lr.jpg
ORGANIZER;CN="R.J.V. De Duinruiters":MAILTO:duinruiters@live.nl
END:VEVENT
END:VCALENDAR