BEGIN:VCALENDAR
VERSION:2.0
PRODID:-//R.J.V. De Duinruiters - ECPv6.13.2.1//NONSGML v1.0//EN
CALSCALE:GREGORIAN
METHOD:PUBLISH
X-WR-CALNAME:R.J.V. De Duinruiters
X-ORIGINAL-URL:http://www.rjvduinruiters.nl
X-WR-CALDESC:Evenementen voor R.J.V. De Duinruiters
REFRESH-INTERVAL;VALUE=DURATION:PT1H
X-Robots-Tag:noindex
X-PUBLISHED-TTL:PT1H
BEGIN:VTIMEZONE
TZID:Europe/Amsterdam
BEGIN:DAYLIGHT
TZOFFSETFROM:+0100
TZOFFSETTO:+0200
TZNAME:CEST
DTSTART:20230326T010000
END:DAYLIGHT
BEGIN:STANDARD
TZOFFSETFROM:+0200
TZOFFSETTO:+0100
TZNAME:CET
DTSTART:20231029T010000
END:STANDARD
BEGIN:DAYLIGHT
TZOFFSETFROM:+0100
TZOFFSETTO:+0200
TZNAME:CEST
DTSTART:20240331T010000
END:DAYLIGHT
BEGIN:STANDARD
TZOFFSETFROM:+0200
TZOFFSETTO:+0100
TZNAME:CET
DTSTART:20241027T010000
END:STANDARD
BEGIN:DAYLIGHT
TZOFFSETFROM:+0100
TZOFFSETTO:+0200
TZNAME:CEST
DTSTART:20250330T010000
END:DAYLIGHT
BEGIN:STANDARD
TZOFFSETFROM:+0200
TZOFFSETTO:+0100
TZNAME:CET
DTSTART:20251026T010000
END:STANDARD
END:VTIMEZONE
BEGIN:VEVENT
DTSTART;TZID=Europe/Amsterdam:20250209T100000
DTEND;TZID=Europe/Amsterdam:20250209T170000
DTSTAMP:20260424T021721
CREATED:20241015T083733Z
LAST-MODIFIED:20241015T083733Z
UID:367-1739095200-1739120400@www.rjvduinruiters.nl
SUMMARY:KNHS Indoor Dressuur B t/m Z2
DESCRIPTION:Maandelijkse KNHS wedstrijd georganiseerd door R.J.V. De Duinruiters. Schrijf je in via Mijnknhs.nl of via de onderstaande link.
URL:http://www.rjvduinruiters.nl/agenda/knhs-indoor-dressuur-b-t-m-z2-10/
LOCATION:Manege Bakker\, Schulpweg 62\, Noordwijkerhout\, 2211 XM\, Nederland
CATEGORIES:KNHS Wedstrijd
ATTACH;FMTTYPE=image/jpeg:http://www.rjvduinruiters.nl/wp-content/uploads/2023/10/crystal-van-vliet-kiekje-by-digishots-nisp21l79687-lr.jpg
ORGANIZER;CN="R.J.V. De Duinruiters":MAILTO:duinruiters@live.nl
END:VEVENT
BEGIN:VEVENT
DTSTART;TZID=Europe/Amsterdam:20250112T100000
DTEND;TZID=Europe/Amsterdam:20250112T170000
DTSTAMP:20260424T021721
CREATED:20241015T083632Z
LAST-MODIFIED:20241015T083632Z
UID:365-1736676000-1736701200@www.rjvduinruiters.nl
SUMMARY:KNHS Indoor Dressuur B t/m Z2
DESCRIPTION:Maandelijkse KNHS wedstrijd georganiseerd door R.J.V. De Duinruiters. Schrijf je in via Mijnknhs.nl of via de onderstaande link.
URL:http://www.rjvduinruiters.nl/agenda/knhs-indoor-dressuur-b-t-m-z2-9/
LOCATION:Manege Bakker\, Schulpweg 62\, Noordwijkerhout\, 2211 XM\, Nederland
CATEGORIES:KNHS Wedstrijd
ATTACH;FMTTYPE=image/jpeg:http://www.rjvduinruiters.nl/wp-content/uploads/2023/10/crystal-van-vliet-kiekje-by-digishots-nisp21l79687-lr.jpg
ORGANIZER;CN="R.J.V. De Duinruiters":MAILTO:duinruiters@live.nl
END:VEVENT
BEGIN:VEVENT
DTSTART;TZID=Europe/Amsterdam:20241208T100000
DTEND;TZID=Europe/Amsterdam:20241208T170000
DTSTAMP:20260424T021721
CREATED:20241015T083517Z
LAST-MODIFIED:20241015T083517Z
UID:363-1733652000-1733677200@www.rjvduinruiters.nl
SUMMARY:KNHS Indoor Dressuur B t/m Z2
DESCRIPTION:Maandelijkse KNHS wedstrijd georganiseerd door R.J.V. De Duinruiters. Schrijf je in via Mijnknhs.nl of via de onderstaande link.
URL:http://www.rjvduinruiters.nl/agenda/knhs-indoor-dressuur-b-t-m-z2-8/
LOCATION:Manege Bakker\, Schulpweg 62\, Noordwijkerhout\, 2211 XM\, Nederland
CATEGORIES:KNHS Wedstrijd
ATTACH;FMTTYPE=image/jpeg:http://www.rjvduinruiters.nl/wp-content/uploads/2023/10/crystal-van-vliet-kiekje-by-digishots-nisp21l79687-lr.jpg
ORGANIZER;CN="R.J.V. De Duinruiters":MAILTO:duinruiters@live.nl
END:VEVENT
BEGIN:VEVENT
DTSTART;TZID=Europe/Amsterdam:20241201T100000
DTEND;TZID=Europe/Amsterdam:20241201T170000
DTSTAMP:20260424T021721
CREATED:20241112T094001Z
LAST-MODIFIED:20241112T094001Z
UID:377-1733047200-1733072400@www.rjvduinruiters.nl
SUMMARY:Dressuur Clinic Geert Hofland
DESCRIPTION:Op 3 novemeber zal Geert Hofland van DAP Bodegraven een bij onze vereniging een dag dressuurclinics geven. Geert heeft ervaring bij de junioren en youngriders en rijdt nu op Grand Prix-niveau. Hij is gespecialiseerd in het trainen van jonge paarden tot een hoog niveau. Tijdens de clinic zal hij ruiters van elk niveau ondersteunen om hun prestaties te verbeteren. \nElke clinic les duurt 45 minuten per duo of 45 minuten privé. Samen met iemand in een duo rijden? Vermeld dit dan bij het aanmelden. In andere gevallen maken wij zelf de duo’s. \nPrijs verenigings leden\nDuo les €30 p.p./ individueel €60 p.p. \nPrijs niet-leden\nDuo les €35 p.p./ individueel €65 p.p. \nAanmelden via een persoonlijk bericht of een email
URL:http://www.rjvduinruiters.nl/agenda/dressuur-clinic-geert-hofland-3/
LOCATION:Manege Bakker\, Schulpweg 62\, Noordwijkerhout\, 2211 XM\, Nederland
CATEGORIES:Clinic
ATTACH;FMTTYPE=image/jpeg:http://www.rjvduinruiters.nl/wp-content/uploads/2023/03/hofland-g-oswin-aach18l131107.jpg
ORGANIZER;CN="Patrick Alkemade":MAILTO:duinruiters@live.nl
END:VEVENT
BEGIN:VEVENT
DTSTART;TZID=Europe/Amsterdam:20241110T100000
DTEND;TZID=Europe/Amsterdam:20241110T170000
DTSTAMP:20260424T021721
CREATED:20241015T083029Z
LAST-MODIFIED:20241015T083314Z
UID:360-1731232800-1731258000@www.rjvduinruiters.nl
SUMMARY:KNHS Indoor Dressuur B t/m Z2
DESCRIPTION:Maandelijkse KNHS wedstrijd georganiseerd door R.J.V. De Duinruiters. Schrijf je in via Mijnknhs.nl of via de onderstaande link.
URL:http://www.rjvduinruiters.nl/agenda/knhs-indoor-dressuur-b-t-m-z2-7/
LOCATION:Manege Bakker\, Schulpweg 62\, Noordwijkerhout\, 2211 XM\, Nederland
CATEGORIES:KNHS Wedstrijd
ATTACH;FMTTYPE=image/jpeg:http://www.rjvduinruiters.nl/wp-content/uploads/2023/10/crystal-van-vliet-kiekje-by-digishots-nisp21l79687-lr.jpg
ORGANIZER;CN="R.J.V. De Duinruiters":MAILTO:duinruiters@live.nl
END:VEVENT
BEGIN:VEVENT
DTSTART;TZID=Europe/Amsterdam:20241103T100000
DTEND;TZID=Europe/Amsterdam:20241103T170000
DTSTAMP:20260424T021721
CREATED:20241015T152634Z
LAST-MODIFIED:20241015T152634Z
UID:371-1730628000-1730653200@www.rjvduinruiters.nl
SUMMARY:Dressuur Clinic Geert Hofland
DESCRIPTION:Op 3 novemeber zal Geert Hofland van DAP Bodegraven een bij onze vereniging een dag dressuurclinics geven. Geert heeft ervaring bij de junioren en youngriders en rijdt nu op Grand Prix-niveau. Hij is gespecialiseerd in het trainen van jonge paarden tot een hoog niveau. Tijdens de clinic zal hij ruiters van elk niveau ondersteunen om hun prestaties te verbeteren. \nElke clinic les duurt 45 minuten per duo of 45 minuten privé. Samen met iemand in een duo rijden? Vermeld dit dan bij het aanmelden. In andere gevallen maken wij zelf de duo’s. \nPrijs verenigings leden\nDuo les €30 p.p./ individueel €60 p.p. \nPrijs niet-leden\nDuo les €35 p.p./ individueel €65 p.p. \nAanmelden via een persoonlijk bericht of een email
URL:http://www.rjvduinruiters.nl/agenda/dressuur-clinic-geert-hofland-2/
LOCATION:Manege Bakker\, Schulpweg 62\, Noordwijkerhout\, 2211 XM\, Nederland
CATEGORIES:Clinic
ATTACH;FMTTYPE=image/jpeg:http://www.rjvduinruiters.nl/wp-content/uploads/2023/03/hofland-g-oswin-aach18l131107.jpg
ORGANIZER;CN="Patrick Alkemade":MAILTO:duinruiters@live.nl
END:VEVENT
BEGIN:VEVENT
DTSTART;TZID=Europe/Amsterdam:20241027T100000
DTEND;TZID=Europe/Amsterdam:20241027T170000
DTSTAMP:20260424T021721
CREATED:20241017T145148Z
LAST-MODIFIED:20241017T145148Z
UID:374-1730023200-1730048400@www.rjvduinruiters.nl
SUMMARY:Onderlinge dressuurwedstrijd
DESCRIPTION:🏆 Onderlinge dressuurwedstrijd voor volwassenen zondag 27 oktober 🏆 \nWij organiseren op zondag 27 oktober een onderlinge wedstrijd voor manege en pensionklanten op Manege Bakker. Deze wedstrijd is voor alle niveau’s. Het is geen officiële wedstrijd\, dus een KNHS lidmaatschap of startkaart is niet nodig.
URL:http://www.rjvduinruiters.nl/agenda/onderlinge-dressuurwedstrijd/
LOCATION:Manege Bakker\, Schulpweg 62\, Noordwijkerhout\, 2211 XM\, Nederland
ATTACH;FMTTYPE=image/jpeg:http://www.rjvduinruiters.nl/wp-content/uploads/2024/10/B592EA53-1864-46EF-8BEF-D780ED8E5FA7.jpg
ORGANIZER;CN="Patrick Alkemade":MAILTO:duinruiters@live.nl
END:VEVENT
BEGIN:VEVENT
DTSTART;TZID=Europe/Amsterdam:20240908T100000
DTEND;TZID=Europe/Amsterdam:20240908T160000
DTSTAMP:20260424T021721
CREATED:20240220T151824Z
LAST-MODIFIED:20240220T151824Z
UID:337-1725789600-1725811200@www.rjvduinruiters.nl
SUMMARY:KNHS Outdoor Dressuur 2-Daagse B t/m ZZL
DESCRIPTION:Outdoor KNHS dressuur weekend georganiseerd door R.J.V. De Duinruiters. Schrijf je in via Mijnknhs.nl.  \nInclusief een leuke prijzenpot voor de overall winnaars!
URL:http://www.rjvduinruiters.nl/agenda/knhs-outdoor-dressuur-2-daagse-b-t-m-zzl-5/
LOCATION:Manege Bakker\, Schulpweg 62\, Noordwijkerhout\, 2211 XM\, Nederland
CATEGORIES:KNHS Wedstrijd
ATTACH;FMTTYPE=image/jpeg:http://www.rjvduinruiters.nl/wp-content/uploads/2023/04/E80411DA-2B01-4E10-907F-C4ADA185D00A.jpeg
ORGANIZER;CN="R.J.V. De Duinruiters":MAILTO:duinruiters@live.nl
END:VEVENT
BEGIN:VEVENT
DTSTART;TZID=Europe/Amsterdam:20240907T100000
DTEND;TZID=Europe/Amsterdam:20240907T160000
DTSTAMP:20260424T021721
CREATED:20240220T151733Z
LAST-MODIFIED:20240220T151900Z
UID:335-1725703200-1725724800@www.rjvduinruiters.nl
SUMMARY:KNHS Outdoor Dressuur 2-Daagse B t/m ZZL
DESCRIPTION:Outdoor KNHS dressuur weekend georganiseerd door R.J.V. De Duinruiters. Schrijf je in via Mijnknhs.nl.  \nInclusief een leuke prijzenpot voor de overall winnaars!
URL:http://www.rjvduinruiters.nl/agenda/knhs-outdoor-dressuur-2-daagse-b-t-m-zzl-4/
LOCATION:Manege Bakker\, Schulpweg 62\, Noordwijkerhout\, 2211 XM\, Nederland
CATEGORIES:KNHS Wedstrijd
ATTACH;FMTTYPE=image/jpeg:http://www.rjvduinruiters.nl/wp-content/uploads/2023/04/E80411DA-2B01-4E10-907F-C4ADA185D00A.jpeg
ORGANIZER;CN="R.J.V. De Duinruiters":MAILTO:duinruiters@live.nl
END:VEVENT
BEGIN:VEVENT
DTSTART;TZID=Europe/Amsterdam:20240811T100000
DTEND;TZID=Europe/Amsterdam:20240811T160000
DTSTAMP:20260424T021721
CREATED:20240220T151607Z
LAST-MODIFIED:20240220T151607Z
UID:333-1723370400-1723392000@www.rjvduinruiters.nl
SUMMARY:KNHS Outdoor Dressuur B t/m ZZL
DESCRIPTION:Maandelijkse KNHS wedstrijd georganiseerd door R.J.V. De Duinruiters. Schrijf je in via Mijnknhs.nl
URL:http://www.rjvduinruiters.nl/agenda/knhs-outdoor-dressuur-b-t-m-zzl-8/
LOCATION:Manege Bakker\, Schulpweg 62\, Noordwijkerhout\, 2211 XM\, Nederland
CATEGORIES:KNHS Wedstrijd
ATTACH;FMTTYPE=image/jpeg:http://www.rjvduinruiters.nl/wp-content/uploads/2023/10/crystal-van-vliet-kiekje-by-digishots-nisp21l79687-lr.jpg
ORGANIZER;CN="R.J.V. De Duinruiters":MAILTO:duinruiters@live.nl
END:VEVENT
BEGIN:VEVENT
DTSTART;TZID=Europe/Amsterdam:20240714T100000
DTEND;TZID=Europe/Amsterdam:20240714T160000
DTSTAMP:20260424T021721
CREATED:20240220T151502Z
LAST-MODIFIED:20240220T151502Z
UID:331-1720951200-1720972800@www.rjvduinruiters.nl
SUMMARY:KNHS Outdoor Dressuur B t/m ZZL
DESCRIPTION:Maandelijkse KNHS wedstrijd georganiseerd door R.J.V. De Duinruiters. Schrijf je in via Mijnknhs.nl
URL:http://www.rjvduinruiters.nl/agenda/knhs-outdoor-dressuur-b-t-m-zzl-7/
LOCATION:Manege Bakker\, Schulpweg 62\, Noordwijkerhout\, 2211 XM\, Nederland
CATEGORIES:KNHS Wedstrijd
ATTACH;FMTTYPE=image/jpeg:http://www.rjvduinruiters.nl/wp-content/uploads/2023/10/crystal-van-vliet-kiekje-by-digishots-nisp21l79687-lr.jpg
ORGANIZER;CN="R.J.V. De Duinruiters":MAILTO:duinruiters@live.nl
END:VEVENT
BEGIN:VEVENT
DTSTART;TZID=Europe/Amsterdam:20240609T100000
DTEND;TZID=Europe/Amsterdam:20240609T160000
DTSTAMP:20260424T021721
CREATED:20240220T151417Z
LAST-MODIFIED:20240220T151417Z
UID:329-1717927200-1717948800@www.rjvduinruiters.nl
SUMMARY:KNHS Outdoor Dressuur B t/m ZZL
DESCRIPTION:Maandelijkse KNHS wedstrijd georganiseerd door R.J.V. De Duinruiters. Schrijf je in via Mijnknhs.nl
URL:http://www.rjvduinruiters.nl/agenda/knhs-outdoor-dressuur-b-t-m-zzl/
LOCATION:Manege Bakker\, Schulpweg 62\, Noordwijkerhout\, 2211 XM\, Nederland
CATEGORIES:KNHS Wedstrijd
ATTACH;FMTTYPE=image/jpeg:http://www.rjvduinruiters.nl/wp-content/uploads/2023/10/crystal-van-vliet-kiekje-by-digishots-nisp21l79687-lr.jpg
ORGANIZER;CN="R.J.V. De Duinruiters":MAILTO:duinruiters@live.nl
END:VEVENT
BEGIN:VEVENT
DTSTART;TZID=Europe/Amsterdam:20240512T100000
DTEND;TZID=Europe/Amsterdam:20240512T160000
DTSTAMP:20260424T021721
CREATED:20240220T150918Z
LAST-MODIFIED:20240220T150918Z
UID:327-1715508000-1715529600@www.rjvduinruiters.nl
SUMMARY:KNHS Outdoor Dressuur 2-Daagse B t/m ZZL
DESCRIPTION:Outdoor KNHS dressuur weekend georganiseerd door R.J.V. De Duinruiters. Schrijf je in via Mijnknhs.nl \nInclusief een leuke prijzenpot voor de overall winnaars!
URL:http://www.rjvduinruiters.nl/agenda/knhs-outdoor-dressuur-2-daagse-b-t-m-zzl-3/
LOCATION:Manege Bakker\, Schulpweg 62\, Noordwijkerhout\, 2211 XM\, Nederland
CATEGORIES:KNHS Wedstrijd
ATTACH;FMTTYPE=image/jpeg:http://www.rjvduinruiters.nl/wp-content/uploads/2023/04/E80411DA-2B01-4E10-907F-C4ADA185D00A.jpeg
ORGANIZER;CN="R.J.V. De Duinruiters":MAILTO:duinruiters@live.nl
END:VEVENT
BEGIN:VEVENT
DTSTART;TZID=Europe/Amsterdam:20240511T100000
DTEND;TZID=Europe/Amsterdam:20240511T160000
DTSTAMP:20260424T021721
CREATED:20240220T150719Z
LAST-MODIFIED:20240220T151027Z
UID:325-1715421600-1715443200@www.rjvduinruiters.nl
SUMMARY:KNHS Outdoor Dressuur 2-Daagse B t/m ZZL
DESCRIPTION:Outdoor KNHS dressuur weekend georganiseerd door R.J.V. De Duinruiters. Schrijf je in via Mijnknhs.nl \nInclusief een leuke prijzenpot voor de overall winnaars!
URL:http://www.rjvduinruiters.nl/agenda/knhs-outdoor-dressuur-2-daagse-b-t-m-zzl-2/
LOCATION:Manege Bakker\, Schulpweg 62\, Noordwijkerhout\, 2211 XM\, Nederland
CATEGORIES:KNHS Wedstrijd
ATTACH;FMTTYPE=image/jpeg:http://www.rjvduinruiters.nl/wp-content/uploads/2023/04/E80411DA-2B01-4E10-907F-C4ADA185D00A.jpeg
ORGANIZER;CN="R.J.V. De Duinruiters":MAILTO:duinruiters@live.nl
END:VEVENT
BEGIN:VEVENT
DTSTART;TZID=Europe/Amsterdam:20240421T100000
DTEND;TZID=Europe/Amsterdam:20240421T170000
DTSTAMP:20260424T021721
CREATED:20240326T102152Z
LAST-MODIFIED:20240326T102152Z
UID:354-1713693600-1713718800@www.rjvduinruiters.nl
SUMMARY:Dressuur Clinic Hester Bischot 21 april
DESCRIPTION:Grand Prix dressuur amazone\, gediplomeerd instructrice en jurylid. Hester geeft les vanuit het principe van de klassieke rijkunst. Dit houdt in dat iedere combinatie als individu wordt bekeken. Er wordt niet getraind vanuit een systeem\, maar gekeken wat de specifieke combinatie paard (en ruiter) nodig heeft en hoe zij het beste getraind kunnen worden. \nDuo les voor leden €45* p.p.\nDuo les voor niet-leden €50* p.p. \nPrive les voor leden €65* p.p.\nPrive les voor niet-leden €70* p.p. \nAanmelden kan via een persoonlijk bericht of via een email naar duinruiters@live.nl \n*Exclusief reiskosten
URL:http://www.rjvduinruiters.nl/agenda/dressuur-clinic-hester-bischot-21-april/
LOCATION:Manege Bakker\, Schulpweg 62\, Noordwijkerhout\, 2211 XM\, Nederland
CATEGORIES:Clinic
ATTACH;FMTTYPE=image/jpeg:http://www.rjvduinruiters.nl/wp-content/uploads/2024/03/ee792fd4-f9a6-421c-b7cd-ee7a3cb56f19_thumb1920.jpg
ORGANIZER;CN="Patrick Alkemade":MAILTO:duinruiters@live.nl
END:VEVENT
BEGIN:VEVENT
DTSTART;TZID=Europe/Amsterdam:20240414T100000
DTEND;TZID=Europe/Amsterdam:20240414T170000
DTSTAMP:20260424T021721
CREATED:20240220T144531Z
LAST-MODIFIED:20240220T151235Z
UID:322-1713088800-1713114000@www.rjvduinruiters.nl
SUMMARY:KNHS Outdoor Dressuur B t/m ZZL
DESCRIPTION:Maandelijkse KNHS wedstrijd georganiseerd door R.J.V. De Duinruiters. Schrijf je in via Mijnknhs.nl
URL:http://www.rjvduinruiters.nl/agenda/knhs-outdoor-dressuur-b-t-m-zzl-6/
LOCATION:Manege Bakker\, Schulpweg 62\, Noordwijkerhout\, 2211 XM\, Nederland
CATEGORIES:KNHS Wedstrijd
ATTACH;FMTTYPE=image/jpeg:http://www.rjvduinruiters.nl/wp-content/uploads/2023/10/crystal-van-vliet-kiekje-by-digishots-nisp21l79687-lr.jpg
ORGANIZER;CN="R.J.V. De Duinruiters":MAILTO:duinruiters@live.nl
END:VEVENT
BEGIN:VEVENT
DTSTART;TZID=Europe/Amsterdam:20240324T093000
DTEND;TZID=Europe/Amsterdam:20240324T150000
DTSTAMP:20260424T021721
CREATED:20240220T124300Z
LAST-MODIFIED:20240220T124300Z
UID:320-1711272600-1711292400@www.rjvduinruiters.nl
SUMMARY:Clinic Dexter Biersteker
DESCRIPTION:Keuze is tussen dressuur of springen. De clinic duurt 45 minuten. Samen met iemand in een duo rijden? Vermeld dit dan bij het aanmelden. In andere gevallen maken wij zelf de duo’s. \nDe kosten voor een dressuur/spring clinic is voor verenigingsleden per duo €20 pp. Een individuele clinic is €40.\nVoor niet-leden zijn de kosten voor een dressuur/spring clinic per duo €25 pp. Een individuele  clinic is €45. \nMeld je snel aan via via Facebook\, Instagram of e-mail om teleurstellingen te voorkomen. Deze clinic is altijd snel vol!
URL:http://www.rjvduinruiters.nl/agenda/clinic-dexter-biersteker-4/
LOCATION:Manege Bakker\, Schulpweg 62\, Noordwijkerhout\, 2211 XM\, Nederland
CATEGORIES:Clinic
ATTACH;FMTTYPE=image/jpeg:http://www.rjvduinruiters.nl/wp-content/uploads/2023/04/0D2A4C2D-2640-4B9D-AB82-3B8FA4798BF8-e1680387085713.jpeg
ORGANIZER;CN="Patrick Alkemade":MAILTO:duinruiters@live.nl
END:VEVENT
BEGIN:VEVENT
DTSTART;TZID=Europe/Amsterdam:20240317T100000
DTEND;TZID=Europe/Amsterdam:20240317T163000
DTSTAMP:20260424T021721
CREATED:20231128T155044Z
LAST-MODIFIED:20240123T122547Z
UID:314-1710669600-1710693000@www.rjvduinruiters.nl
SUMMARY:Dressuur Clinic Hester Bischot
DESCRIPTION:Grand Prix dressuur amazone\, gediplomeerd Instructrice en Jurylid. Hester geeft les vanuit het principe van de klassieke rijkunst. Dit houdt in dat iedere combinatie als individu wordt bekeken. Er wordt niet getraind vanuit een systeem\, maar gekeken wat de specifieke combinatie paard (en ruiter) nodig heeft en hoe zij het beste getraind kunnen worden. \nDuo les voor leden €45* p.p.\nDuo les voor niet-leden €50* p.p. \nPrive les voor leden €65* p.p.\nPrive les voor niet-leden €70* p.p. \nAanmelden kan via een persoonlijk bericht of via een email naar duinruiters@live.nl \n*Exclusief reiskosten
URL:http://www.rjvduinruiters.nl/agenda/dressuur-clinic-hester-bischot-2/
LOCATION:Manege Bakker\, Schulpweg 62\, Noordwijkerhout\, 2211 XM\, Nederland
CATEGORIES:Clinic
ATTACH;FMTTYPE=image/jpeg:http://www.rjvduinruiters.nl/wp-content/uploads/2023/08/d825e5_f4947215ba9245bfb3bab9a23c6779b7mv2.jpg
ORGANIZER;CN="Patrick Alkemade":MAILTO:duinruiters@live.nl
END:VEVENT
BEGIN:VEVENT
DTSTART;TZID=Europe/Amsterdam:20240310T100000
DTEND;TZID=Europe/Amsterdam:20240310T140000
DTSTAMP:20260424T021721
CREATED:20231008T205010Z
LAST-MODIFIED:20240220T151203Z
UID:296-1710064800-1710079200@www.rjvduinruiters.nl
SUMMARY:KNHS Indoor Dressuur B t/m Z2
DESCRIPTION:Maandelijkse KNHS wedstrijd georganiseerd door R.J.V. De Duinruiters. Schrijf je in via Mijnknhs.nl
URL:http://www.rjvduinruiters.nl/agenda/knhs-indoor-dressuur-b-t-m-z2-6/
LOCATION:Manege Bakker\, Schulpweg 62\, Noordwijkerhout\, 2211 XM\, Nederland
CATEGORIES:KNHS Wedstrijd
ATTACH;FMTTYPE=image/jpeg:http://www.rjvduinruiters.nl/wp-content/uploads/2023/10/crystal-van-vliet-kiekje-by-digishots-nisp21l79687-lr.jpg
ORGANIZER;CN="R.J.V. De Duinruiters":MAILTO:duinruiters@live.nl
END:VEVENT
BEGIN:VEVENT
DTSTART;TZID=Europe/Amsterdam:20240218T100000
DTEND;TZID=Europe/Amsterdam:20240218T160000
DTSTAMP:20260424T021721
CREATED:20240123T123516Z
LAST-MODIFIED:20240123T123516Z
UID:317-1708250400-1708272000@www.rjvduinruiters.nl
SUMMARY:Clinic Dexter Biersteker
DESCRIPTION:Keuze is tussen dressuur of springen. De clinic duurt 45 minuten. Samen met iemand in een duo rijden? Vermeld dit dan bij het aanmelden. In andere gevallen maken wij zelf de duo’s. \nDe kosten voor een dressuur/spring clinic is voor verenigingsleden per duo €20 pp. Een individuele clinic is €40.\nVoor niet-leden zijn de kosten voor een dressuur/spring clinic per duo €25 pp. Een individuele  clinic is €45. \nMeld je snel aan via via Facebook\, Instagram of e-mail om teleurstellingen te voorkomen. Deze clinic is altijd snel vol!
URL:http://www.rjvduinruiters.nl/agenda/clinic-dexter-biersteker-3/
LOCATION:Manege Bakker\, Schulpweg 62\, Noordwijkerhout\, 2211 XM\, Nederland
CATEGORIES:Clinic
ATTACH;FMTTYPE=image/jpeg:http://www.rjvduinruiters.nl/wp-content/uploads/2023/04/0D2A4C2D-2640-4B9D-AB82-3B8FA4798BF8-e1680387085713.jpeg
ORGANIZER;CN="Patrick Alkemade":MAILTO:duinruiters@live.nl
END:VEVENT
BEGIN:VEVENT
DTSTART;TZID=Europe/Amsterdam:20240211T100000
DTEND;TZID=Europe/Amsterdam:20240211T140000
DTSTAMP:20260424T021721
CREATED:20231008T204908Z
LAST-MODIFIED:20231008T204908Z
UID:294-1707645600-1707660000@www.rjvduinruiters.nl
SUMMARY:KNHS Indoor Dressuur B t/m Z2
DESCRIPTION:Maandelijkse KNHS wedstrijd georganiseerd door R.J.V. De Duinruiters. Schrijf je in via Mijnknhs.nl
URL:http://www.rjvduinruiters.nl/agenda/knhs-indoor-dressuur-b-t-m-z2-5/
LOCATION:Manege Bakker\, Schulpweg 62\, Noordwijkerhout\, 2211 XM\, Nederland
CATEGORIES:KNHS Wedstrijd
ATTACH;FMTTYPE=image/jpeg:http://www.rjvduinruiters.nl/wp-content/uploads/2023/10/crystal-van-vliet-kiekje-by-digishots-nisp21l79687-lr.jpg
ORGANIZER;CN="R.J.V. De Duinruiters":MAILTO:duinruiters@live.nl
END:VEVENT
BEGIN:VEVENT
DTSTART;TZID=Europe/Amsterdam:20240114T100000
DTEND;TZID=Europe/Amsterdam:20240114T140000
DTSTAMP:20260424T021721
CREATED:20231008T204753Z
LAST-MODIFIED:20231008T204753Z
UID:292-1705226400-1705240800@www.rjvduinruiters.nl
SUMMARY:KNHS Indoor Dressuur B t/m Z2
DESCRIPTION:Maandelijkse KNHS wedstrijd georganiseerd door R.J.V. De Duinruiters. Schrijf je in via Mijnknhs.nl
URL:http://www.rjvduinruiters.nl/agenda/knhs-indoor-dressuur-b-t-m-z2-4/
LOCATION:Manege Bakker\, Schulpweg 62\, Noordwijkerhout\, 2211 XM\, Nederland
CATEGORIES:KNHS Wedstrijd
ATTACH;FMTTYPE=image/jpeg:http://www.rjvduinruiters.nl/wp-content/uploads/2023/10/crystal-van-vliet-kiekje-by-digishots-nisp21l79687-lr.jpg
ORGANIZER;CN="R.J.V. De Duinruiters":MAILTO:duinruiters@live.nl
END:VEVENT
BEGIN:VEVENT
DTSTART;TZID=Europe/Amsterdam:20231210T100000
DTEND;TZID=Europe/Amsterdam:20231210T140000
DTSTAMP:20260424T021721
CREATED:20231008T204633Z
LAST-MODIFIED:20231008T204633Z
UID:290-1702202400-1702216800@www.rjvduinruiters.nl
SUMMARY:KNHS Indoor Dressuur B t/m Z2
DESCRIPTION:Maandelijkse KNHS wedstrijd georganiseerd door R.J.V. De Duinruiters. Schrijf je in via Mijnknhs.nl
URL:http://www.rjvduinruiters.nl/agenda/knhs-indoor-dressuur-b-t-m-z2-3/
LOCATION:Manege Bakker\, Schulpweg 62\, Noordwijkerhout\, 2211 XM\, Nederland
CATEGORIES:KNHS Wedstrijd
ATTACH;FMTTYPE=image/jpeg:http://www.rjvduinruiters.nl/wp-content/uploads/2023/10/crystal-van-vliet-kiekje-by-digishots-nisp21l79687-lr.jpg
ORGANIZER;CN="R.J.V. De Duinruiters":MAILTO:duinruiters@live.nl
END:VEVENT
BEGIN:VEVENT
DTSTART;TZID=Europe/Amsterdam:20231126T100000
DTEND;TZID=Europe/Amsterdam:20231126T130000
DTSTAMP:20260424T021721
CREATED:20230830T120629Z
LAST-MODIFIED:20230830T120629Z
UID:277-1700992800-1701003600@www.rjvduinruiters.nl
SUMMARY:Dressuur Clinic Hester Bischot
DESCRIPTION:Grand Prix dressuur amazone\, gediplomeerd Instructrice en Jurylid. Hester geeft les vanuit het principe van de klassieke rijkunst. Dit houdt in dat iedere combinatie als individu wordt bekeken. Er wordt niet getraind vanuit een systeem\, maar gekeken wat de specifieke combinatie paard (en ruiter) nodig heeft en hoe zij het beste getraind kunnen worden. \nDuo les voor leden €45* p.p.\nDuo les voor niet-leden €50* p.p. \nAanmelden kan via een persoonlijk bericht of via een email naar duinruiters@live.nl \n*Exclusief reiskosten
URL:http://www.rjvduinruiters.nl/agenda/dressuur-clinic-hester-bischot/
LOCATION:Manege Bakker\, Schulpweg 62\, Noordwijkerhout\, 2211 XM\, Nederland
CATEGORIES:Clinic
ATTACH;FMTTYPE=image/jpeg:http://www.rjvduinruiters.nl/wp-content/uploads/2023/08/d825e5_f4947215ba9245bfb3bab9a23c6779b7mv2.jpg
ORGANIZER;CN="Patrick Alkemade":MAILTO:duinruiters@live.nl
END:VEVENT
BEGIN:VEVENT
DTSTART;TZID=Europe/Amsterdam:20231112T100000
DTEND;TZID=Europe/Amsterdam:20231112T140000
DTSTAMP:20260424T021721
CREATED:20231008T204322Z
LAST-MODIFIED:20231008T204526Z
UID:287-1699783200-1699797600@www.rjvduinruiters.nl
SUMMARY:KNHS Indoor Dressuur B t/m Z2
DESCRIPTION:Maandelijkse KNHS wedstrijd georganiseerd door R.J.V. De Duinruiters. Schrijf je in via Mijnknhs.nl
URL:http://www.rjvduinruiters.nl/agenda/knhs-indoor-dressuur-b-t-m-z2-2/
LOCATION:Manege Bakker\, Schulpweg 62\, Noordwijkerhout\, 2211 XM\, Nederland
CATEGORIES:KNHS Wedstrijd
ATTACH;FMTTYPE=image/jpeg:http://www.rjvduinruiters.nl/wp-content/uploads/2023/10/crystal-van-vliet-kiekje-by-digishots-nisp21l79687-lr.jpg
ORGANIZER;CN="R.J.V. De Duinruiters":MAILTO:duinruiters@live.nl
END:VEVENT
BEGIN:VEVENT
DTSTART;TZID=Europe/Amsterdam:20231015T100000
DTEND;TZID=Europe/Amsterdam:20231015T170000
DTSTAMP:20260424T021721
CREATED:20230727T104926Z
LAST-MODIFIED:20230830T120810Z
UID:273-1697364000-1697389200@www.rjvduinruiters.nl
SUMMARY:Clinic Dexter Biersteker
DESCRIPTION:Dexter Biersteker rijdt al paard sinds zijn zesde. Met zijn klasse Z kampioenstitel op SGW Vlietland wordt Dexter momenteel gezien als een van de meest veelbelovende eventing talenten van Nederland. Op de clinicdag van Dexter kan je  voor dressuur- of springclinic opgeven. \nDe kosten voor een dressuur/spring clinic is voor verenigingsleden per duo €20 pp. Een individuele clinic is €40.\nVoor niet-leden zijn de kosten voor een dressuur/spring clinic per duo €25 pp. Een individuele clinic is €45. \nAanmelden kan via een persoonlijk bericht op Facebook of Instagram\, of via een email naar duinruiters@live.nl
URL:http://www.rjvduinruiters.nl/agenda/clinic-dexter-biersteker-2/
LOCATION:Manege Bakker\, Schulpweg 62\, Noordwijkerhout\, 2211 XM\, Nederland
CATEGORIES:Clinic
ATTACH;FMTTYPE=image/jpeg:http://www.rjvduinruiters.nl/wp-content/uploads/2023/04/0D2A4C2D-2640-4B9D-AB82-3B8FA4798BF8-e1680387085713.jpeg
ORGANIZER;CN="Patrick Alkemade":MAILTO:duinruiters@live.nl
END:VEVENT
BEGIN:VEVENT
DTSTART;TZID=Europe/Amsterdam:20230917T110000
DTEND;TZID=Europe/Amsterdam:20230917T160000
DTSTAMP:20260424T021721
CREATED:20230315T144411Z
LAST-MODIFIED:20230317T172039Z
UID:175-1694948400-1694966400@www.rjvduinruiters.nl
SUMMARY:KNHS Outdoor Dressuur B t/m ZZL
DESCRIPTION:Maandelijkse KNHS wedstrijd georganiseerd door R.J.V. De Duinruiters. Schrijf je in via Mijnknhs.nl
URL:http://www.rjvduinruiters.nl/agenda/knhs-outdoor-dressuur-b-t-m-zzl-5/
LOCATION:Manege Bakker\, Schulpweg 62\, Noordwijkerhout\, 2211 XM\, Nederland
CATEGORIES:KNHS Wedstrijd
ATTACH;FMTTYPE=image/jpeg:http://www.rjvduinruiters.nl/wp-content/uploads/2023/03/D8D16006-3090-449F-8C73-544C30DC3E98-e1678894383295.jpeg
ORGANIZER;CN="R.J.V. De Duinruiters":MAILTO:duinruiters@live.nl
END:VEVENT
BEGIN:VEVENT
DTSTART;TZID=Europe/Amsterdam:20230916T100000
DTEND;TZID=Europe/Amsterdam:20230916T170000
DTSTAMP:20260424T021721
CREATED:20230831T173846Z
LAST-MODIFIED:20230831T173846Z
UID:284-1694858400-1694883600@www.rjvduinruiters.nl
SUMMARY:Workshop Equisimulator
DESCRIPTION:Altijd al meer aandacht willen besteden aan je houding en zit tijdens het rijden? De Equisimulator is de ideale manier om gevoel te trainen zonder de invloed van je paard. Je wordt je bewust van je hele lichaam tijdens het rijden\, waardoor de samenwerking met je paard eenvoudiger verloopt. Het belangrijkste communicatiemiddel tijdens het rijden is immers de houding en zit.  \nDe workshop zal plaatsvinden op 16 september. Kosten zijn €50 p.p. voor leden en €55 p.p. voor niet-leden. De clinic wordt gegeven in een groep van 5 personen en zal 3\,5 uur duren. \nAanmelden kan via een persoonlijk bericht of een email naar duinruiters@live.nl
URL:http://www.rjvduinruiters.nl/agenda/workshop-equisimulator-2/
LOCATION:Manege Bakker\, Schulpweg 62\, Noordwijkerhout\, 2211 XM\, Nederland
CATEGORIES:Workshop
ATTACH;FMTTYPE=image/jpeg:http://www.rjvduinruiters.nl/wp-content/uploads/2023/04/IMG_7329-e1566028154517-scaled.jpg
ORGANIZER;CN="Patrick Alkemade":MAILTO:duinruiters@live.nl
END:VEVENT
BEGIN:VEVENT
DTSTART;VALUE=DATE:20230819
DTEND;VALUE=DATE:20230821
DTSTAMP:20260424T021721
CREATED:20230315T144258Z
LAST-MODIFIED:20230709T203552Z
UID:173-1692403200-1692575999@www.rjvduinruiters.nl
SUMMARY:KNHS Outdoor Dressuur 2-Daagse B t/m ZZL
DESCRIPTION:KNHS dressuur wedstrijd weekend georganiseerd door R.J.V. De Duinruiters. Schrijf je in via Mijnknhs.nl \nMaak kans op leuke prijzen!
URL:http://www.rjvduinruiters.nl/agenda/knhs-outdoor-dressuur-b-t-m-zzl-4/
LOCATION:Manege Bakker\, Schulpweg 62\, Noordwijkerhout\, 2211 XM\, Nederland
CATEGORIES:KNHS Wedstrijd
ATTACH;FMTTYPE=image/jpeg:http://www.rjvduinruiters.nl/wp-content/uploads/2023/03/293722602_5169792243138059_3861451625790380243_n.jpg
ORGANIZER;CN="R.J.V. De Duinruiters":MAILTO:duinruiters@live.nl
END:VEVENT
BEGIN:VEVENT
DTSTART;TZID=Europe/Amsterdam:20230716T110000
DTEND;TZID=Europe/Amsterdam:20230716T160000
DTSTAMP:20260424T021721
CREATED:20230315T144209Z
LAST-MODIFIED:20230317T171907Z
UID:171-1689505200-1689523200@www.rjvduinruiters.nl
SUMMARY:KNHS Outdoor Dressuur B t/m ZZL
DESCRIPTION:Maandelijkse KNHS wedstrijd georganiseerd door R.J.V. De Duinruiters. Schrijf je in via Mijnknhs.nl
URL:http://www.rjvduinruiters.nl/agenda/knhs-outdoor-dressuur-b-t-m-zzl-3/
LOCATION:Manege Bakker\, Schulpweg 62\, Noordwijkerhout\, 2211 XM\, Nederland
CATEGORIES:KNHS Wedstrijd
ATTACH;FMTTYPE=image/jpeg:http://www.rjvduinruiters.nl/wp-content/uploads/2023/03/D8D16006-3090-449F-8C73-544C30DC3E98-e1678894383295.jpeg
ORGANIZER;CN="R.J.V. De Duinruiters":MAILTO:duinruiters@live.nl
END:VEVENT
END:VCALENDAR