BEGIN:VCALENDAR
VERSION:2.0
PRODID:-//R.J.V. De Duinruiters - ECPv6.13.2.1//NONSGML v1.0//EN
CALSCALE:GREGORIAN
METHOD:PUBLISH
X-WR-CALNAME:R.J.V. De Duinruiters
X-ORIGINAL-URL:http://www.rjvduinruiters.nl
X-WR-CALDESC:Evenementen voor R.J.V. De Duinruiters
REFRESH-INTERVAL;VALUE=DURATION:PT1H
X-Robots-Tag:noindex
X-PUBLISHED-TTL:PT1H
BEGIN:VTIMEZONE
TZID:Europe/Amsterdam
BEGIN:DAYLIGHT
TZOFFSETFROM:+0100
TZOFFSETTO:+0200
TZNAME:CEST
DTSTART:20230326T010000
END:DAYLIGHT
BEGIN:STANDARD
TZOFFSETFROM:+0200
TZOFFSETTO:+0100
TZNAME:CET
DTSTART:20231029T010000
END:STANDARD
END:VTIMEZONE
BEGIN:VEVENT
DTSTART;TZID=Europe/Amsterdam:20230423T110000
DTEND;TZID=Europe/Amsterdam:20230423T190000
DTSTAMP:20260424T050646
CREATED:20230313T121237Z
LAST-MODIFIED:20230313T130513Z
UID:128-1682247600-1682276400@www.rjvduinruiters.nl
SUMMARY:Dressuur Clinic Malene Nooteboom
DESCRIPTION:Meervoudig Grandprix amazone Malene Nootenboom\, geboren in 1976 en afkomstig uit het dorp Rhoon. Van jongs af aan is ze actief bezig met paarden. Inmiddels heeft ze verschillende sportpaarden opgeleid en daardoor ook een continue doorloop van sportpaarden. Ze leidt haar paarden zelf op en het doel is om het beste in het paard naar boven te krijgen\, altijd in samenwerking met het paard. \nTijdens de clinic geeft Malene les in groepjes met 2 combinaties waarbij ingegaan wordt op de basistraining\, proefgericht rijden en hoe je je eigen houding en zit kunt verbeteren maar ook hoe je jezelf een boost geeft op het mentale vlak! \nEen les duurt 45 min voor 2 personen. \nPrijs voor clubleden is €50 euro p.p.\nPrijs voor niet-leden is €55 euro p.p.\nPrijzen zijn exclusief reiskosten. \nAanmelden via WhatsApp 06 55 53 1700
URL:http://www.rjvduinruiters.nl/agenda/dressuur-clinic-malene-nooteboom/
LOCATION:Manege Bakker\, Schulpweg 62\, Noordwijkerhout\, 2211 XM\, Nederland
CATEGORIES:Clinic
ATTACH;FMTTYPE=image/jpeg:http://www.rjvduinruiters.nl/wp-content/uploads/2023/03/malene-nootenboom-voorstellen.jpg
ORGANIZER;CN="Annebel van de Velden":MAILTO:duinruiters@live.nl
END:VEVENT
BEGIN:VEVENT
DTSTART;TZID=Europe/Amsterdam:20230416T110000
DTEND;TZID=Europe/Amsterdam:20230416T160000
DTSTAMP:20260424T050646
CREATED:20230315T143322Z
LAST-MODIFIED:20230403T183212Z
UID:163-1681642800-1681660800@www.rjvduinruiters.nl
SUMMARY:KNHS Outdoor Dressuur B t/m ZZL
DESCRIPTION:Maandelijkse KNHS wedstrijd georganiseerd door R.J.V. De Duinruiters. Schrijf je in via Mijnknhs.nl
URL:http://www.rjvduinruiters.nl/agenda/knhs-outdoor-dressuur-b-t-m-z2/
LOCATION:Manege Bakker\, Schulpweg 62\, Noordwijkerhout\, 2211 XM\, Nederland
CATEGORIES:KNHS Wedstrijd
ATTACH;FMTTYPE=image/jpeg:http://www.rjvduinruiters.nl/wp-content/uploads/2023/04/E80411DA-2B01-4E10-907F-C4ADA185D00A.jpeg
ORGANIZER;CN="R.J.V. De Duinruiters":MAILTO:duinruiters@live.nl
END:VEVENT
BEGIN:VEVENT
DTSTART;TZID=Europe/Amsterdam:20230319T100000
DTEND;TZID=Europe/Amsterdam:20230319T140000
DTSTAMP:20260424T050646
CREATED:20230314T221644Z
LAST-MODIFIED:20230315T143949Z
UID:147-1679220000-1679234400@www.rjvduinruiters.nl
SUMMARY:KNHS Indoor Dressuur B t/m Z2
DESCRIPTION:Maandelijkse KNHS wedstrijd georganiseerd door R.J.V. De Duinruiters. Schrijf je in via Mijnknhs.nl
URL:http://www.rjvduinruiters.nl/agenda/knhs-indoor-dressuur-b-t-m-z2/
LOCATION:Manege Bakker\, Schulpweg 62\, Noordwijkerhout\, 2211 XM\, Nederland
CATEGORIES:KNHS Wedstrijd
ATTACH;FMTTYPE=image/jpeg:http://www.rjvduinruiters.nl/wp-content/uploads/2023/03/D8D16006-3090-449F-8C73-544C30DC3E98-e1678894383295.jpeg
ORGANIZER;CN="R.J.V. De Duinruiters":MAILTO:duinruiters@live.nl
END:VEVENT
END:VCALENDAR