BEGIN:VCALENDAR
VERSION:2.0
PRODID:-//R.J.V. De Duinruiters - ECPv6.13.2.1//NONSGML v1.0//EN
CALSCALE:GREGORIAN
METHOD:PUBLISH
X-ORIGINAL-URL:https://www.rjvduinruiters.nl
X-WR-CALDESC:Evenementen voor R.J.V. De Duinruiters
REFRESH-INTERVAL;VALUE=DURATION:PT1H
X-Robots-Tag:noindex
X-PUBLISHED-TTL:PT1H
BEGIN:VTIMEZONE
TZID:Europe/Amsterdam
BEGIN:DAYLIGHT
TZOFFSETFROM:+0100
TZOFFSETTO:+0200
TZNAME:CEST
DTSTART:20230326T010000
END:DAYLIGHT
BEGIN:STANDARD
TZOFFSETFROM:+0200
TZOFFSETTO:+0100
TZNAME:CET
DTSTART:20231029T010000
END:STANDARD
END:VTIMEZONE
BEGIN:VEVENT
DTSTART;VALUE=DATE:20230819
DTEND;VALUE=DATE:20230821
DTSTAMP:20260425T123630
CREATED:20230315T144258Z
LAST-MODIFIED:20230709T203552Z
UID:173-1692403200-1692575999@www.rjvduinruiters.nl
SUMMARY:KNHS Outdoor Dressuur 2-Daagse B t/m ZZL
DESCRIPTION:KNHS dressuur wedstrijd weekend georganiseerd door R.J.V. De Duinruiters. Schrijf je in via Mijnknhs.nl \nMaak kans op leuke prijzen!
URL:https://www.rjvduinruiters.nl/agenda/knhs-outdoor-dressuur-b-t-m-zzl-4/
LOCATION:Manege Bakker\, Schulpweg 62\, Noordwijkerhout\, 2211 XM\, Nederland
CATEGORIES:KNHS Wedstrijd
ATTACH;FMTTYPE=image/jpeg:https://www.rjvduinruiters.nl/wp-content/uploads/2023/03/293722602_5169792243138059_3861451625790380243_n.jpg
ORGANIZER;CN="R.J.V. De Duinruiters":MAILTO:duinruiters@live.nl
END:VEVENT
END:VCALENDAR