BEGIN:VCALENDAR
VERSION:2.0
PRODID:-//R.J.V. De Duinruiters - ECPv6.13.2.1//NONSGML v1.0//EN
CALSCALE:GREGORIAN
METHOD:PUBLISH
X-WR-CALNAME:R.J.V. De Duinruiters
X-ORIGINAL-URL:https://www.rjvduinruiters.nl
X-WR-CALDESC:Evenementen voor R.J.V. De Duinruiters
REFRESH-INTERVAL;VALUE=DURATION:PT1H
X-Robots-Tag:noindex
X-PUBLISHED-TTL:PT1H
BEGIN:VTIMEZONE
TZID:Europe/Amsterdam
BEGIN:DAYLIGHT
TZOFFSETFROM:+0100
TZOFFSETTO:+0200
TZNAME:CEST
DTSTART:20230326T010000
END:DAYLIGHT
BEGIN:STANDARD
TZOFFSETFROM:+0200
TZOFFSETTO:+0100
TZNAME:CET
DTSTART:20231029T010000
END:STANDARD
END:VTIMEZONE
BEGIN:VEVENT
DTSTART;TZID=Europe/Amsterdam:20230319T100000
DTEND;TZID=Europe/Amsterdam:20230319T140000
DTSTAMP:20260423T204027
CREATED:20230314T221644Z
LAST-MODIFIED:20230315T143949Z
UID:147-1679220000-1679234400@www.rjvduinruiters.nl
SUMMARY:KNHS Indoor Dressuur B t/m Z2
DESCRIPTION:Maandelijkse KNHS wedstrijd georganiseerd door R.J.V. De Duinruiters. Schrijf je in via Mijnknhs.nl
URL:https://www.rjvduinruiters.nl/agenda/knhs-indoor-dressuur-b-t-m-z2/
LOCATION:Manege Bakker\, Schulpweg 62\, Noordwijkerhout\, 2211 XM\, Nederland
CATEGORIES:KNHS Wedstrijd
ATTACH;FMTTYPE=image/jpeg:https://www.rjvduinruiters.nl/wp-content/uploads/2023/03/D8D16006-3090-449F-8C73-544C30DC3E98-e1678894383295.jpeg
ORGANIZER;CN="R.J.V. De Duinruiters":MAILTO:duinruiters@live.nl
END:VEVENT
END:VCALENDAR